BEGIN:VCALENDAR
VERSION:2.0
PRODID:-// - ECPv4.2.6//NONSGML v1.0//EN
CALSCALE:GREGORIAN
METHOD:PUBLISH
X-WR-CALNAME:
X-ORIGINAL-URL:https://www.expert-psychotherapist-philadelphia.com
X-WR-CALDESC:Events for 
BEGIN:VEVENT
DTSTART;TZID=UTC+0:20120330T190000
DTEND;TZID=UTC+0:20120330T220059
DTSTAMP:20260425T144636
CREATED:20120219T213716
LAST-MODIFIED:20120220T174036
UID:339-1333134000-1333144859@www.expert-psychotherapist-philadelphia.com
SUMMARY:March 2012 Abington Drum Circle
DESCRIPTION:This month the drum circle may be held in my heated studio depending on the weather and temperatures. If it's nice and mild we will be outside around the fire pit again. We will be holding the drumming circle on the last Friday of every month. Come drum and go wild Friday March 30th\, 7-10pm or later?! Bring your drums and percussion instruments for other people that may want to play. Go into altered states and dance around the studio! This is an amazing experience! For those of you that want to let go and jam\, this is it! Please RSVP! A Ho! Love donations are accepted and everyone is welcome.\n\nYou can also view our events in Facebook at http://www.facebook.com/events/ and http://www.facebook.com/PersonalGrowthAlternatives  and Meetup.com at http://www.meetup.com/The-Shiva-Das-Drum-Circle-and-Reiki-Share-Meetup-Group/\n\nGratitude\, Rusty Stewart
URL:https://www.expert-psychotherapist-philadelphia.com/event/339
LOCATION:2411 C. Patane Avenue\, Abington\, PA\, 19001\, United States
ORGANIZER;CN="Rusty%20Stewart%2C%20Ph.D.":MAILTO:rusty@rustystewartphd.com
END:VEVENT
END:VCALENDAR