BEGIN:VCALENDAR
VERSION:2.0
PRODID:-// - ECPv4.2.6//NONSGML v1.0//EN
CALSCALE:GREGORIAN
METHOD:PUBLISH
X-WR-CALNAME:
X-ORIGINAL-URL:https://www.expert-psychotherapist-philadelphia.com
X-WR-CALDESC:Events for 
BEGIN:VEVENT
DTSTART;TZID=UTC+0:20150917T190000
DTEND;TZID=UTC+0:20150917T200000
DTSTAMP:20260424T072609
CREATED:20150910T175416
LAST-MODIFIED:20150910T175416
UID:715-1442516400-1442520000@www.expert-psychotherapist-philadelphia.com
SUMMARY:Allana Pratt's "Intimate Conversations LIVE" with Dr. Rusty
DESCRIPTION:Dear Fabulous Friends\,\n\nWant to hear me get intimate with Allana?\n\nI know you’ve heard a lot about me\, but Allana Pratt has a way of getting me to say things I’ve never told anyone else\, about intimacy\, about relationships\, about what really matters...\n\nAllana’s the Intimacy & Relationship Expert who coached Leeza through Dancing with the Stars\, who’s interviewed Whoopi Goldberg\, who’s known as the Sexy Mom… She’ll be interviewing me Thursday – September 17th at 4pm Pacific\, 7pm for her upcoming “Intimate Conversations” call series.\n\nYou can register for free here:\nhttps://mgy86521.isrefer.com/go/ic/RustyS/\n\nI’ll be joined by amazing folks from all walks of life who will be getting Intimate with Allana too.\n\nI accepted the interview because she’s one of the most open\, honest\, heartfelt\, sexy and hysterical women I know. I always feel a foot taller after talking with her. She has this special energy that truly inspires people.\n\nOn my call\, she’s going to get me to reveal my most delicious\, intimate secrets\, like:\n\n* The joy and freedom of pleasuring your partner(s) with naughty kink and ravishing sex\n* Transparent communication around taboo intimacy\n* Playing with confidence as a man and standing in the feminine fire with foreplay\n* Learning to spontaneously dance with you and your partner(s) masculine and feminine energies\n* What is sexy means to me\n\nSign up now for the entire “Intimate Conversations” call series for FREE and ask your burning question you’ve ALWAYS wanted.\n\nYou need to register! It’s FREE…\n\nhttps://mgy86521.isrefer.com/go/ic/RustyS/\n\nThursday September 17th 4pm PDT/ 7pm EDT!\n\nOn our call\, she’s going to get me to reveal my most intimate secrets… So join us!\n\n\nLIVE. Free. Intimate.\n\nSee you Thursday September 17th at 4pm PDT\, 7pm EDT.\n\nhttps://mgy86521.isrefer.com/go/ic/RustyS/\n\nGratitude\, Light & Love\,\n\nDr. Rusty\n\nP.S. Be sure to join the call 5 minutes early with your questions so we can incorporate them into the show!\n\nhttps://mgy86521.isrefer.com/go/ic/RustyS/
URL:https://www.expert-psychotherapist-philadelphia.com/event/allana-pratts-intimate-conversations-live-with-dr-rusty
END:VEVENT
END:VCALENDAR