BEGIN:VCALENDAR
VERSION:2.0
PRODID:-// - ECPv4.2.6//NONSGML v1.0//EN
CALSCALE:GREGORIAN
METHOD:PUBLISH
X-WR-CALNAME:
X-ORIGINAL-URL:https://www.expert-psychotherapist-philadelphia.com
X-WR-CALDESC:Events for 
BEGIN:VEVENT
DTSTART;TZID=UTC+0:20120427T190000
DTEND;TZID=UTC+0:20120427T220059
DTSTAMP:20260425T145226
CREATED:20120219T214554
LAST-MODIFIED:20120219T214554
UID:342-1335553200-1335564059@www.expert-psychotherapist-philadelphia.com
SUMMARY:April 2012 Abington Drum Circle
DESCRIPTION:This month the drum circle may be held in my heated studio depending on the weather and temperatures. If it's nice and mild we will be outside around the fire pit again. We will be holding the drumming circle on the last Friday of every month. Come drum and go wild Friday April 27th\, 7-10pm or later?! Bring your drums and percussion instruments for other people that may want to play. Go into altered states and dance around the studio! This is an amazing experience! For those of you that want to let go and jam\, this is it! Please RSVP! A Ho! Love donations are accepted and everyone is welcome. You can also view my other events on http://www.facebook.com page and my events on my new website at http://www.expert-psychotherapist-philadelphia.com/wp-admin/edit.php?post_type=tribe_events Gratitude\, Rusty (Shiva Das)
URL:https://www.expert-psychotherapist-philadelphia.com/event/april-2012-abington-drum-circle
LOCATION:2411 C. Patane Avenue\, Abington\, PA\, 19001\, United States
ORGANIZER;CN="Rusty%20Stewart%2C%20Ph.D.":MAILTO:rusty@rustystewartphd.com
END:VEVENT
END:VCALENDAR