BEGIN:VCALENDAR
VERSION:2.0
PRODID:-// - ECPv4.2.6//NONSGML v1.0//EN
CALSCALE:GREGORIAN
METHOD:PUBLISH
X-WR-CALNAME:
X-ORIGINAL-URL:https://www.expert-psychotherapist-philadelphia.com
X-WR-CALDESC:Events for 
BEGIN:VEVENT
DTSTART;TZID=UTC+0:20140425T193000
DTEND;TZID=UTC+0:20140425T223000
DTSTAMP:20260425T021034
CREATED:20140325T190734
LAST-MODIFIED:20140325T190946
UID:631-1398454200-1398465000@www.expert-psychotherapist-philadelphia.com
SUMMARY:April 25th\, Spring Celebration Party & Drumming Around the Fire Pit
DESCRIPTION:Happy Spring!!!\n\nWell\, the March Spring Equinox party was amazing! We had 20 people attend and had a blast with good food and old and new friends. Hopefully we will be outside around the fire pit in April. Please bring some pot-luck food as everyone enjoyed and contributed!\n\nCome drum\, dance\, and socialize Friday April 25\, 7:30-10:30 pm or later! We will be drumming\, dancing\, and socializing inside or around the fire pit\, weather permitting. My heated sacred studio will also be open for socializing and energy work for those of you who want to share your gifts on the sound table and Metatron Mat if we are outside. Bring a dish to share. BYOB responsibly please! Bring your drums and percussion instruments for other people that may want to play. We have some extra drums and instruments for people that have none. For those of you that want to let go and jam\, this is it\, jam to Spring! Please RSVP! Love donations are accepted and appreciated\, and\, everyone is welcome. No prior experience with drumming required. You can also check out my events at http://www.meetup.com/The-Shiva-Das-Drum-Circle-and-Reiki-Share-Meetup-Group/ and my events on my new website at http://www.meetup.com/The-Shiva-Das-Drum-Circle-and-Reiki-Share-Meetup-Group/.\n\nGratitude\, Rusty Stewart
URL:https://www.expert-psychotherapist-philadelphia.com/event/april-25th-spring-celebration-party-drumming-around-the-fire-pit
LOCATION:2411 C. Patane Avenue\, Abington\, PA 19001\, 19001\, United States
ORGANIZER;CN="Rusty%20Stewart%2C%20Ph.D.":MAILTO:rusty@rustystewartphd.com
END:VEVENT
END:VCALENDAR