BEGIN:VCALENDAR
VERSION:2.0
PRODID:-// - ECPv4.2.6//NONSGML v1.0//EN
CALSCALE:GREGORIAN
METHOD:PUBLISH
X-WR-CALNAME:
X-ORIGINAL-URL:https://www.expert-psychotherapist-philadelphia.com
X-WR-CALDESC:Events for 
BEGIN:VEVENT
DTSTART;TZID=UTC+0:20140822T193000
DTEND;TZID=UTC+0:20140822T223000
DTSTAMP:20260425T020139
CREATED:20140805T200449
LAST-MODIFIED:20140805T200534
UID:653-1408735800-1408746600@www.expert-psychotherapist-philadelphia.com
SUMMARY:August 22nd Late Summer Celebration Party & Fire Pit Drum Circle
DESCRIPTION:Happy Late Summer!!!\n\nCome drum\, dance\, and socialize Friday August 22nd\, 7:30-10:30 pm or later! We will be drumming\, dancing\, and socializing inside or around the fire pit\, weather permitting. My sacred studio will also be open for socializing. Bring a dish to share. BYOB responsibly please! Bring your drums and percussion instruments for other people that may want to play. We have some extra drums and instruments for people that have none. For those of you that want to let go and jam\, this is it\, jam in the warm weather! Please RSVP! Love donations are accepted and appreciated\, and\, everyone is welcome. No prior experience with drumming required. You can also check out my events at http://www.meetup.com/The-Shiva-Das-Drum-Circle-and-Reiki-Share-Meetup-Group/ and my events on my website at http://www.expert-psychotherapist-philadelphia.com/events/.\n\nGratitude\,\n\nRusty Stewart\n609.332.4663
URL:https://www.expert-psychotherapist-philadelphia.com/event/august-22nd-late-summer-celebration-party-fire-pit-drum-circle
LOCATION:2411 C. Patane Avenue\, Abington\, PA\, 19001\, United States
ORGANIZER;CN="Rusty%20Stewart":MAILTO:rusty@personalgrowthalternatives.com
END:VEVENT
END:VCALENDAR