BEGIN:VCALENDAR
VERSION:2.0
PRODID:-// - ECPv4.2.6//NONSGML v1.0//EN
CALSCALE:GREGORIAN
METHOD:PUBLISH
X-WR-CALNAME:
X-ORIGINAL-URL:https://www.expert-psychotherapist-philadelphia.com
X-WR-CALDESC:Events for 
BEGIN:VEVENT
DTSTART;TZID=UTC+0:20140302T100000
DTEND;TZID=UTC+0:20140302T120000
DTSTAMP:20260425T003737
CREATED:20140219T050748
LAST-MODIFIED:20140227T031711
UID:617-1393754400-1393761600@www.expert-psychotherapist-philadelphia.com
SUMMARY:Create Your Vision and Attract Your Soulmate!
DESCRIPTION:Sunday\, March 2\, 2014\, 10:00am until 12:00pm\n\nI am giving a talk at Awakened Heart Spiritual Center in Arden\, DE. This is a free event with Love donations accepted during the service. The African drummers have been postponed until a future service.\n\nhttp://www.awakenedheart.net/\n\nLearn tools and techniques to attract your best friend and Soulmate. Create deep lasting Love and mind blowing Spiritual sex. Learn to say no when the flags surface early on. Signify unhealthy patterns and take new action and choice. And then position yourself in the right venues.
URL:https://www.expert-psychotherapist-philadelphia.com/event/create-your-vision-and-attract-your-soulmate
LOCATION:2119 The Highway\, Arden\, DE\, 19810\, United States
ORGANIZER;CN="Rusty%20Stewart%2C%20Ph.D.":MAILTO:rusty@rustystewartphd.com
END:VEVENT
END:VCALENDAR