BEGIN:VCALENDAR
VERSION:2.0
PRODID:-// - ECPv4.2.6//NONSGML v1.0//EN
CALSCALE:GREGORIAN
METHOD:PUBLISH
X-WR-CALNAME:
X-ORIGINAL-URL:https://www.expert-psychotherapist-philadelphia.com
X-WR-CALDESC:Events for 
BEGIN:VEVENT
DTSTART;TZID=UTC+0:20150928T200000
DTEND;TZID=UTC+0:20150928T211500
DTSTAMP:20260424T090930
CREATED:20150910T160832
LAST-MODIFIED:20150910T160832
UID:704-1443470400-1443474900@www.expert-psychotherapist-philadelphia.com
SUMMARY:Don’t Miss The Love Shack’s\, Edgy Love Secrets Applied LIVE Teleseminar #7!
DESCRIPTION:Topic Forthcoming......\n\nCall in details:\n\nDial in number: 712-775-7031\n\nAccess code: 502450\n\nMonday September 28th at 8pm EDT\n\nTalk with you Monday or sooner!\n\nLight\, Love\, & Gratitude\,\n\nDr. Rusty's Love Shack
URL:https://www.expert-psychotherapist-philadelphia.com/event/dont-miss-the-love-shacks-edgy-love-secrets-applied-live-teleseminar-7
ORGANIZER;CN="Rusty%20Stewart":MAILTO:rusty@personalgrowthalternatives.com
END:VEVENT
END:VCALENDAR