BEGIN:VCALENDAR
VERSION:2.0
PRODID:-// - ECPv4.2.6//NONSGML v1.0//EN
CALSCALE:GREGORIAN
METHOD:PUBLISH
X-WR-CALNAME:
X-ORIGINAL-URL:https://www.expert-psychotherapist-philadelphia.com
X-WR-CALDESC:Events for 
BEGIN:VEVENT
DTSTART;TZID=UTC+0:20151005T080000
DTEND;TZID=UTC+0:20151005T211500
DTSTAMP:20260424T092419
CREATED:20150910T173649
LAST-MODIFIED:20150910T173649
UID:710-1444032000-1444079700@www.expert-psychotherapist-philadelphia.com
SUMMARY:Don’t Miss The Love Shack’s\, Edgy Love Secrets Applied LIVE Teleseminar #8!
DESCRIPTION:Topic Forthcoming....\n\nCall in details:\n\nDial in number: 712-775-7031\n\nAccess code: 502450\n\nMonday October 5th at 8pm EDT\n\nTalk with you Monday or sooner!\n\nLight\, Love\, & Gratitude\,\n\nDr. Rusty's Love Shack
URL:https://www.expert-psychotherapist-philadelphia.com/event/dont-miss-the-love-shacks-edgy-love-secrets-applied-live-teleseminar-8
LOCATION:2411 C. Patane Avenue\, Abington\, 19001\, United States
ORGANIZER;CN="Rusty%20Stewart":MAILTO:rusty@personalgrowthalternatives.com
END:VEVENT
END:VCALENDAR