BEGIN:VCALENDAR
VERSION:2.0
PRODID:-// - ECPv4.2.6//NONSGML v1.0//EN
CALSCALE:GREGORIAN
METHOD:PUBLISH
X-WR-CALNAME:
X-ORIGINAL-URL:https://www.expert-psychotherapist-philadelphia.com
X-WR-CALDESC:Events for 
BEGIN:VEVENT
DTSTART;TZID=UTC+0:20150914T200000
DTEND;TZID=UTC+0:20150914T211500
DTSTAMP:20260424T092120
CREATED:20150910T155356
LAST-MODIFIED:20150910T160236
UID:698-1442260800-1442265300@www.expert-psychotherapist-philadelphia.com
SUMMARY:Don’t Miss The Love Shack’s\, Edgy Love Secrets Applied LIVE Teleseminar #5!
DESCRIPTION:Hi Radiant Friends!\n\nAre you being honest with yourself?\n\nYesterday I was really in a dark funk! Somebody I knew passed away 1 ½ years ago tragically and I didn’t even know about it. All I can say is that I started to cry and sob. This woman touched so many lives!\n\nThe rest of the day I was sad\, paralyzed\, and scared!\n\nWhy? Because I knew this person\, danced with her\, and felt like the reason I didn’t know was that I was disconnected from my community.\n\nAnd\, disconnection is selfish!\n\nSo I started to reflect last night and today if I was being honest with myself about my connection with others and how I show up.\n\nNeedless to say\, yesterday was a very painful wake-up call!\n\nThe day was an inventory of all the promises and commitments I had broken with myself. And\, what level of game I’m willing to play the rest of my days in human form.\n\nYou see\, when we are not keeping our word with ourselves our connection with others suffers. It’s almost like we feel so much shame\, guilt\, and fear that we hide and isolate. Which leads to loneliness as that insidious little voice in our heads gets louder and louder.\n\nHonesty with ourselves leads to courage and calling ourselves out. Which then leads to connection\, intimacy\, and compassion with ourselves and others.\n\nIt’s called welcome to humanity and the perfection of imperfection!\n\nPart of being human is restoring our integrity over and over and over again. But without restoring our integrity with ourselves we become numb to the wonderful human experience\, the good\, the bad\, and the ugly!\n\nTo fully embrace life and relationships we must stay connected and in communication.\n\nTruly\, that is one of the keys to deep lasting Love and intimacy\, “into-me-see.” When we allow people into our world\, it makes it safe for them to welcome us into theirs.\n\nModeling is the quickest way to transform any relationship.\n\nPeople crave to see\, feel\, and experience other people’s humanness regardless of what they might say.\n\nSharing is the surest way to release shame\, fear\, guilt\, and loneliness!\n\nAnother lesson in why doing it by ourselves does not work!\n\nIf you are committed to:\n\nRelease shame\, fear\, guilt\, and loneliness and/or\n\nIncrease confidence and self esteem and/or\n\nLearn how to stay connected\, and/or\n\nCommunicate authentically and successfully in any circumstance\, and/or\n\nModel integrity and honesty to attract the same\,\n\nThen BE on the teleseminar call promptly Monday September 14th at 8pm EDT!\n\nDon’t you want to bring that special someone into your life that exhibits honesty\, integrity\, and communicates successfully with authenticity and humility (true self confidence!)?\n\nRemember like attracts like!\n\nCall in details:\n\nDial in number: 712-775-7031\n\nAccess code: 502450\n\nMonday September 14th at 8pm EDT\n\nTalk with you Monday or sooner!\n\nLight\, Love\, & Gratitude\,\n\nDr. Rusty's Love Shack
URL:https://www.expert-psychotherapist-philadelphia.com/event/dont-miss-the-love-shacks-edgy-love-secrets-applied-teleseminar-5
ORGANIZER;CN="Rusty%20Stewart":MAILTO:rusty@personalgrowthalternatives.com
END:VEVENT
END:VCALENDAR