BEGIN:VCALENDAR
VERSION:2.0
PRODID:-// - ECPv4.2.6//NONSGML v1.0//EN
CALSCALE:GREGORIAN
METHOD:PUBLISH
X-WR-CALNAME:
X-ORIGINAL-URL:https://www.expert-psychotherapist-philadelphia.com
X-WR-CALDESC:Events for 
BEGIN:VEVENT
DTSTART;TZID=UTC+0:20151127T193000
DTEND;TZID=UTC+0:20151127T223000
DTSTAMP:20260424T091215
CREATED:20150909T202051
LAST-MODIFIED:20150909T202051
UID:692-1448652600-1448663400@www.expert-psychotherapist-philadelphia.com
SUMMARY:Foundations of Ecstasy: Elements of Touch\, Dance\, and Play
DESCRIPTION:Foundations of Ecstasy: Elements of Touch\, Dance\, and Play......\n\nJoin Peter Petersen and Monique Darling for a delightful evening of diving into the 4 elements:\nAir\nEarth\nWater\nFire (my favorite)\n\nFirst Peter will take you on an expedition\, an adventure through movement and connection\, both inward and outward as he takes us on a dance journey that has destination stops at each element. Music is selected to take you through each of the four elements (plus a surprise 5th element) that eventually leads you back to your center (Spirit) Allowing your True Self to be revealed!\n\nThen learn how to empower your sensual conscious touch. Explore the tactile language of stimulating arousal\, that touches the deepest part of our soul.\nThis experiential laboratory will include breathing and chakra balancing meditation\, and playful\, non-sexual massage. Monique will guide you through an odyssey of touch\, that let's you explore the 4 elements\, on/through each other.\n\nFirst you will go on a journey using the most intimate form of touch\, our breath. We’ll be introducing an ancient ritual where you will explore each-others bodies\, magnifying your connection physically\, energetically\, and spiritually.\nThen align your chakras through touch\, breath\, connection\, and shared intent.\n\nNext comes earth touch\, as you ground\, and recenter\, massage\, nurture\, hold\, BE with one another.\n\nfollowed by fire\, as you invigorate\, entice\, awaken\, arouse\, "heat" up yourself and your partner\n\ncooling down with water touch\, fluid\, soft\, caressing\, gentle\, swaying\, following\, gliding\n\nWith each element drop even deeper into your embodied bliss state as you learn to touch for YOUR pleasure\, as you get to practice asking for the specific types of touch your body is craving/imagining at any moment.\n\nFinally Peter and I\, being two Massage Enthusiasts\, will lead you through some simple massage techniques for neck\, hands and feet and even throw in some of our own unique “black belt” tools that will leave your partner breathless and asking for more.\n\nBring a partner or come solo and be paired up with practice partner's for the night so you can take these skills home and wow your lover!\nBring a cushion\, water bottle\, and a curious\, open mind.\nWear comfy clothes that you can move around in.\n\nLove Exchange $30/per person $50/per pair\nRSVP here: https://www.eventbrite.com/e/foundations-of-ecstasy-elements-of-touch-dance-and-play-tickets-17961809255\n\n\nAbout Your Facilitators:\nMonique Darling\, workshop facilitator extraordinaire has led over 800 workshops in the past 5 years. She is the founder of Juicy Enlightenment an organization dedicated to empowering people who are questioning the assumptions of how their life should be and to offering tools for self expression that create trust\, inner knowing and wisdom to enjoy the life they have. Monique has been featured on TLC and The Dr’s as well as various radio shows\, podcasts and magazines across the USA. She specializes in helping others reclaim their power and natural sensuality by transmuting fear and repression into courage\, self-love and freedom. Her primary purpose is helping folks bring out their vulnerability\, energetic embodiment and fearless relating.She guides from a place of understanding and her natural exuberance is infectious! She is available for private sessions\, experiential workshops and Cuddle Parties. Learn more about Monique by going to juicyenlightenment.com or track her whereabouts at whereintheworldismoniquedarling.com\n\nPeter Petersen has been teaching for 13 years and has been a certified Sheng Zhen Qigong teacher for the last 11 years\, where he has been teaching in health clubs\, hospitals\, retirement villas\, and several different wellness/spa resorts in Mexico and the United States\, such as Rancho La Puerta\, Mayacamas Ranch\, and Present Moment Retreat. Peter is also a personal wellness coach. This Qigong practice helps people ground themselves into their “now” to increase their present moment awareness of their behaviors\, and find solutions to problematic habits such as: eating\, moving\, negative thinking\, and sleeping. The result of this tool box of healthy information is that clients become their own health advocate and regain a sense of stability\, peace\, and well-being into their everyday lives.
URL:https://www.expert-psychotherapist-philadelphia.com/event/foundations-of-ecstasy-elements-of-touch-dance-and-play
LOCATION:2411 C. Patane Avenue\, Abington\, 19001\, United States
ORGANIZER;CN="Rusty%20Stewart":MAILTO:rusty@personalgrowthalternatives.com
END:VEVENT
END:VCALENDAR