BEGIN:VCALENDAR
VERSION:2.0
PRODID:-// - ECPv4.2.6//NONSGML v1.0//EN
CALSCALE:GREGORIAN
METHOD:PUBLISH
X-WR-CALNAME:
X-ORIGINAL-URL:https://www.expert-psychotherapist-philadelphia.com
X-WR-CALDESC:Events for 
BEGIN:VEVENT
DTSTART;TZID=UTC+0:20160501T193000
DTEND;TZID=UTC+0:20160502T000000
DTSTAMP:20260423T225122
CREATED:20160106T212837
LAST-MODIFIED:20160404T212753
UID:724-1462131000-1462147200@www.expert-psychotherapist-philadelphia.com
SUMMARY:Freedom\, Liberation\, Healing Movement an All Gender Play Party Bliss
DESCRIPTION:\n\nThis is an experiential play party for the sensually adventurous. This special evening welcomes ALL and is very gender friendly. This is an invitation to dive deeply into yourself and each other in ways you may have been afraid to do in the past. This is the play party you want to come to even if you've never been to a play party before. We create an expansive\, feeling-full environment charged with electricity\, yet warmly grounded and earthy. A safe and sacred container for exploring kisses and hugs in a relaxed\, sex-positive space. This play party encourages your curiosity about taking your own sensual play space to the next level. The evening is a celebration of imagination and curiosity\, so you may experience as many flavors as you dare. Come dressed in something that makes you feel sacred and sexy!\n\nFirst Peter brings his love of a moving meditation from China called Qigong.\nFor thousands of years people have captured the essence of these simple movements to maintain balance and to heal themselves mentally and physically. Qigong accelerates healing and has a positive clinically recognized effect on almost all physical symptoms. Qigong helps heal the physical body and release stress of the mind. By moving your body\, releasing trigger points\, and stimulating your circulatory system\, you literally become your own massage therapist. Simultaneously these movements help release negative emotions and memories that you no longer need and allow yourself to be much more present in your "now" so in a sense you become your own psychiatrist at the same time! Come learn how to build the foundation of being your own health advocate and enjoy emotional freedom and connection to all that is!\n\nThen let Monique lead you through a welcome circle where a room of strangers slowly opens up and winds up on the same page\, having the opportunity to be seen\, heard\, and understood in ways maybe you have never even imagined!\n\nWhat is Play with a capital "P"?\n\nPlay with a capital "P" is whatever it means to you. You are invited to co-create whatever feeds your soul. Participation (also with a capital "P") can mean many things and voyeurs are as warmly welcomed as the most actively engaged. It's a sensual space where participants are encouraged to explore themselves and others in ways that are stimulating\, nurturing\, exciting\, safe and FUN!\n\nThis is the Play party you want to come to if you've never been AND this is the Play party you want to come to if you want to experience how to take generating safe play space for you and your loved ones to the next level.\nONLINE REGISTRATION AT: https://www.eventbrite.com/e/freedom-liberation-healing-movement-an-all-gender-play-party-bliss-tickets-20200376871\n\nWHO SHOULD ATTEND:\n\nYou are sensually\, erotically and emotionally savvy enough to Play nicely with others. You're a good sharer\, you take good care of your toys and you use your words. :-) You are somebody who knows your own wants and boundaries and can communicate them clearly...... and/or you're someone willing to work and explore these areas for your own growth and enjoyment! You treat yourself and others with respect and kindness.\n\nIf you're reading this\, thinking\, "I would love to come\, but I don't want to play\," PLEASE COME and enjoy the pressure-free company of like-minded individuals and exit whenever you wish. Really. There will be no pressure for you to do ANY activity at this party at any time.\n\nMy biggest request is that you come with a fun-loving\, warm\, caring\, open-minded\, generous\, thoughtful\, compassionate\, non-judgmental attitude and that you conduct yourself with the highest level of integrity possible.\n\nThis will be a very chill\, fun\, playful event where sex and nudity will most likely occur. Come relax. Come sip a glass of something or a cup of tea. Come smooch. Come play. Come watch. (You know us: voyeurism is participation!)\n\nAll genders\, bodies\, and orientations welcome. Come as you are and have a great time!\n\nTIME:\n\nDoors open at 7:30 PM and CLOSE AT 8:00 PM. BE ON TIME as it is essential to have everyone present for the opening circle. There will not be anyone admitted after the doors are closed to preserve the safety of our space. The Welcome Circle is what we use to introduce ourselves to one another\, have a safer sex conversation\, share any boundaries and relationship agreements people should know about and get all comfy and ready to Play. (http://www.sexuality.org/ is the easiest\, least scary and most direct site to go to for good safer sex info). There will be a closing circle at midnight. PLEASE text Monique at 619-655-6877 if you're unavoidably running late\, but please just be on time! WHAT TO BRING: Your sexy self and whatever food and drink you might want for the evening. (No drugs please. We like our Playmates to be present and capable of connection.) Bring whatever sexy things you'd like to don and lounge in while we frolic or just throw on your regular weekend clothes for relaxation. Bring along whatever safer sex accesories you desire - condoms\, dental dams\, gloves\, toys\, lube - whatever you might be needing to create that perfect evening. Oh\, and of course\, please bring a Playful attitude and an open heart and mind.\n\nThis will be a very chill\, fun\, playful event where sex and nudity will most likely occur. Come relax. Come sip a glass of something or a cup of tea. Come smooch. Come play. Come watch - voyeurism is participation! Hope to see you there!\n\nCOST:\nLove Exchange $35 prepaid ($25 for women prepaid) or $50 for both the cuddle and play party\n\nPlease RSVP online as we often sell out!\nREGISTER HERE:\nABOUT YOUR FACILITATORS:\n\nMonique Darling\, San Diego\, CA\, Authenticity\, Vulnerability and Relationship coach is the founder of Juicy Enlightenment which provides workshops and experiential play-shops in the art of Tantra and conscious loving. She has studied and taught with renowned Tantra teachers and extraordinary workshop facilitators since 1990 and is a certified Cuddly Party Facilitator. She has been featured on TLC and The Dr’s and has been interviewed by magazines across the USA. Monique is dedicated to empowering others utilizing her vast repertoire of cutting-edge teachings. She specializes is helping others reclaim their power and natural sensuality by transmuting fear and repression into courage\, self-love and freedom. She guides from a place of understanding and her natural exuberance is infectious! She is available for private sessions\, experiential workshops and Cuddle Parties. http://www.juicyenlightenment.com \nShe is devoted to helping YOU uncover your magnificence!!! To empower YOU\, who dream of something more\, to awaken further and discover it is within you. You have all the answers\, let her help you remember the questions.\n\nPeter Petersen has been teaching for 14 years and has been a certified Sheng Zhen Qigong teacher for the last 12 years\, where he has been teaching in health clubs\, hospitals\, retirement villas\, and several different wellness/spa resorts in Mexico and the United States\, such as Rancho La Puerta\, Mayacamas Ranch\, and Present Moment Retreat. Peter is also a personal wellness coach. This Qigong practice helps people ground themselves into their “now” to increase their present moment awareness of their behaviors\, and find solutions to problematic habits such as: eating\, moving\, negative thinking\, and sleeping. The result of this tool box of healthy information is that clients become their own health advocate and regain a sense of stability\, peace\, and well-being into their everyday lives.\n\n
URL:https://www.expert-psychotherapist-philadelphia.com/event/freedom-liberation-healing-movement-an-all-gender-play-party-bliss-2
LOCATION:2411 C. Patane Avenue\, Abington\, 19001\, United States
ORGANIZER;CN="Rusty%20Stewart":MAILTO:rusty@personalgrowthalternatives.com
END:VEVENT
END:VCALENDAR