BEGIN:VCALENDAR
VERSION:2.0
PRODID:-// - ECPv4.2.6//NONSGML v1.0//EN
CALSCALE:GREGORIAN
METHOD:PUBLISH
X-WR-CALNAME:
X-ORIGINAL-URL:https://www.expert-psychotherapist-philadelphia.com
X-WR-CALDESC:Events for 
BEGIN:VEVENT
DTSTART;TZID=UTC+0:20150327T193000
DTEND;TZID=UTC+0:20150327T223000
DTSTAMP:20260424T165101
CREATED:20150204T165543
LAST-MODIFIED:20150314T155644
UID:667-1427484600-1427495400@www.expert-psychotherapist-philadelphia.com
SUMMARY:Friday March 27th Spring Drum Circle & Pot Luck
DESCRIPTION:Happy Spring Friends!\n\n \n\nIt's about time\, right! Come drum\, dance\, and socialize Friday March 27th\, 7:30-10:30 pm! We will be drumming and dancing in my sacred studio. This is an alcohol free sober event. Bring a pot luck dish to share. Bring your drums and percussion instruments for other people that may want to play. We have some extra drums and instruments for people that have none. For those of you that want to let go and jam\, this is it! Please RSVP! Love donations are accepted and appreciated\, and\, everyone is welcome. No prior experience with drumming required. You can also check out my events on\n\n \n\nhttps://www.facebook.com/events/upcoming\n\n \n\nand my events on my Meetup Group\n\nhttp://www.meetup.com/The-Shiva-Das-Drum-Circle-and-Reiki-Share-Meetup-Group/\n\n \n\n2411 C. Patane Avenue\nAbington\, PA 19001\n609.332.4663\n\n \n\nGratitude\,\n\n \n\nRusty Shiva Das
URL:https://www.expert-psychotherapist-philadelphia.com/event/friday-february-27th-drum-circle-pot-luck
LOCATION:2411 C. Patane Avenue\, Abington\, 19001\, United States
ORGANIZER;CN="Rusty%20Stewart":MAILTO:rusty@personalgrowthalternatives.com
END:VEVENT
END:VCALENDAR