BEGIN:VCALENDAR
VERSION:2.0
PRODID:-// - ECPv4.2.6//NONSGML v1.0//EN
CALSCALE:GREGORIAN
METHOD:PUBLISH
X-WR-CALNAME:
X-ORIGINAL-URL:https://www.expert-psychotherapist-philadelphia.com
X-WR-CALDESC:Events for 
BEGIN:VEVENT
DTSTART;TZID=UTC+0:20170408T134500
DTEND;TZID=UTC+0:20170408T173000
DTSTAMP:20260423T210718
CREATED:20170326T210641
LAST-MODIFIED:20170326T210641
UID:745-1491659100-1491672600@www.expert-psychotherapist-philadelphia.com
SUMMARY:Get Ready for an Awesome April 8th Cuddle Party
DESCRIPTION:Spring is here so it's time to warm things up!\n\nPlease welcome back The Bliss Mistress Edie Weinstein to facilitate The Awesome April Cuddle Party again! Edie is a dear friend and has been having these warm and welcoming Cuddle Parties in my studio for many years. And\, she is a master at creating a safe and sacred space! Please join us for a fun and fulfilling Saturday afternoon!\n\nCuddle Party is a fun and playful non-sexual\, nurturing touch workshop in which you can practice communication and boundary setting. It can help to enhance all of your relationships and allow you to learn even more about yourself. It is for adults who come dressed in pj's or other comfy clothes and in the 3 1/2 hours we have together\, you can practice saying yes to what you want\, no to what you don't want and be open to changing your mind. Make friends\, create community\, expand your horizons\, allow yourself the freedom to do something outside your scope of experience. Some people love it so much\, that they attend again and again. Join us and find out why!\n\n\nWhen: Saturday\, April 8 at 1:45 PM - 5:30 PM\n\nWhere: Dr. Rusty's Love Shack\, 2411 C. Patane Avenue\, Abington\, PA 19001\n\n\nTo register\, click on this link: https://www.eventbrite.com/e/awesome-april-cuddle-party-tickets-32362930396\n1-Please arrive at 1:45pm since doors close at 2:15pm so we can create safe space to begin. Once the Welcome Circle begins\, we will not admit anyone\n\n.2-If you smoke\, please do not do so prior to the Cuddle Party\, since many\, including your facilitator\, have difficulty with it\n\n3- Please bring a blanket to help make the floor extra comfy and cozy.\n\n4-Feel free to bring snacks to share\n\n.5-This is a substance free event; no drugs or alcohol.\n\n6- Bring your open heart and open arms.\n\nCuddle Party Rules\n\nPajamas stay on the whole time.\n\nYou don’t have to cuddle anyone at a Cuddle Party\, ever.\n\nYou must ask permission and receive a verbal YES before you touch anyone. (Be as specific in your request as you can.)\n\nIf you’re a yes\, say YES. If you’re a no\, say NO.\n\nIf you’re a maybe\, say NO.\n\nYou are encouraged to change your mind.\n\nRespect your relationship agreements and communicate with your partner.\n\nGet your Cuddle Party Facilitator or the Cuddle Assistant if you have a question or concern or need assistance with anything during the Cuddle Party.\n\nTears and laughter are both welcome.\n\nRespect people’s privacy when sharing about Cuddle Parties.\n\nKeep the Cuddle space tidy.\n\nEdie Weinstein is a certified Cuddle Party facilitator who has offered over 250 of them since 2005. She is a journalist\, presenter\, licensed social worker\, reiki master and interfaith minister\, as well as consummate cuddler. She helps to create a safe\, sacred space for this event. www.opti-mystical.com The fee is $30 per person and $25 per person if you register with a friend.\n\nTo register\, click on this link: https://www.eventbrite.com/e/awesome-april-cuddle-party-tickets-32362930396\n\nGratitude\,\n\nDr. Rusty
URL:https://www.expert-psychotherapist-philadelphia.com/event/get-ready-for-an-awesome-april-8th-cuddle-party
LOCATION:2411 C. Patane Avenue\, Abington\, 19001\, United States
ORGANIZER;CN="Rusty%20Stewart":MAILTO:rusty@personalgrowthalternatives.com
END:VEVENT
END:VCALENDAR