BEGIN:VCALENDAR
VERSION:2.0
PRODID:-// - ECPv4.2.6//NONSGML v1.0//EN
CALSCALE:GREGORIAN
METHOD:PUBLISH
X-WR-CALNAME:
X-ORIGINAL-URL:https://www.expert-psychotherapist-philadelphia.com
X-WR-CALDESC:Events for 
BEGIN:VEVENT
DTSTART;TZID=UTC+0:20130209T090000
DTEND;TZID=UTC+0:20130211T170000
DTSTAMP:20260425T114448
CREATED:20121002T171154
LAST-MODIFIED:20121126T212252
UID:393-1360400400-1360602000@www.expert-psychotherapist-philadelphia.com
SUMMARY:Holistic Integrative  Breathing Professional  Practitioners Training Level I with Rusty Stewart\, Ph.D.
DESCRIPTION:Saturday\, Sunday\, & Monday February 9\, 10\, & 11\, 2013\, 9am-5pm. $400 full registration which includes my professionally recorded "Guided Holistic Integrative Breathing" 6 cd set. A $50 non-refundable deposit holds your spot. If you have any questions or to register\, call Rusty’s business cell at 609.332.4663. Held at Personal Growth Alternatives\, LLC\, 2411 C. Patane Avenue\, Abington\, PA 19001\, 609.332.4663.\n\nYou can also check out my events at http://www.facebook.com/events/322420544459728/#!/events/ and my events on my Meetup Group at http://www.meetup.com/The-Shiva-Das-Drum-Circle-and-Reiki-Share-Meetup-Group/\nGratitude\, Rusty Stewart\, Ph.D.Learn\, experience\, and be certified in all 8 of the Transfomational Breaths\,\nthe Primal Drumming Breath\, an Inca Breath Meditation\, a Twin Heart Meditation\, and a Chi Gong\nStanding Breath Meditation. Affirmations\, chakra work\, and energy clearing\nwill be taught to complement the breathing process and create sacred space for healing.\nThis can be integrated into individual practices or groups and workshops. This is a great\nadditional effective experiential modality for anyone in the healing and therapy profession!\n\n\nThe purpose of this type of breathing is to heal\, balance\, clear\, and not to bring up past\ntrauma. You will learn how to continuously breathe from your belly and move your energy\nthrough your body. Positive affirmations will accompany this breathing\nprocess. Ideally\, when our bottom three energy centers are clear and balanced and our top\nthree energy centers are clear and balanced\, we live in joy from the heart through\nunconditional love. You can truly integrate alternative healing methods with the traditional.\nand create your own personalized holistic practice to empower and heal yourself!\n\nSome of the benefits include: Extra energy\, increased mental clarity\, a greater ability to\nsolve problems\, an efficient and healthier life\, more\, love\, joy\, forgiveness\, compassion\,\nand freedom\, less stress\, a creativity boost and expressing your truth\, more balance\,\ngreater intuition\, and a deeper connection with your spirituality.\n\nGratitude\, Rusty Stewart\, Ph.D.\nDeposit Secures Your Spot\n   \nPay in Full\n   
URL:https://www.expert-psychotherapist-philadelphia.com/event/holistic-integrative-breathing-professional-practitioners-training-level-i-with-rusty-stewart-ph-d-2
END:VEVENT
END:VCALENDAR