BEGIN:VCALENDAR
VERSION:2.0
PRODID:-// - ECPv4.2.6//NONSGML v1.0//EN
CALSCALE:GREGORIAN
METHOD:PUBLISH
X-WR-CALNAME:
X-ORIGINAL-URL:https://www.expert-psychotherapist-philadelphia.com
X-WR-CALDESC:Events for 
BEGIN:VEVENT
DTSTART;TZID=UTC+0:20140712T140000
DTEND;TZID=UTC+0:20140712T173000
DTSTAMP:20260425T032545
CREATED:20140702T200421
LAST-MODIFIED:20140702T200647
UID:645-1405173600-1405186200@www.expert-psychotherapist-philadelphia.com
SUMMARY:Juicy July Cuddle Party Saturday July 12\, 2pm
DESCRIPTION:Cuddle Party is a 3 1/2 hour experiential workshop for adults that focuses on communication\, boundary setting\, safe\,nurturing\, non-sexual touch. Participants (singles and couples) attend in pj’s.\, sweats or yoga clothes and after The Welcome Circle which explores our experiences with touch\, relationships\, going over the Rules of Cuddling\, creating a safe container\, we move into ‘freestyle cuddling’ which is spooning\, snuggling\, massage\, nuzzling….all with verbal consent. By the time you leave\, you are likely to be floating on an oxytocin high.\n\nIn the 8 years that I have been a certified facilitator\, I have seen relationships start\, others thrive and still more\, heal as a result of folks attending this powerful workshop.\n\nBesides being Certified Cuddle Party Facilitator #27\, I am a colorfully creative journalist\, dynamic motivational speaker\, interfaith minister\, licensed social worker and the author of The Bliss Mistress Guide To Transforming the Ordinary Into the Extraordinary. I estimate that I have cuddled thousands of people since I have facilitated at least 250 of these since 2006. My Cuddle Parties have been covered by the Philadelphia Inquirer\, CBS 3 News\, Fox 29 News\, Good Morning Yahoo! and Steven Colbert who gave it a 'wag of the finger'\, but hey\, any publicity is good publicity(: www.liveinjoy.org\n\nI love that it gives people the chance to experiment with speaking up about their needs\, knowing that they may receive a yes or no to their requests and that they are alright no matter what the answer. I adore witnessing how people who may have been strangers when the workshop began\, become 'family of choice' by the end\, feeling comfortable in each other's presence.\n\n$30 per person OR $25 per person if you register with a friend~ The more\, the cuddlier!\n\nhttps://www.eventbrite.com/e/juicy-july-cuddle-party-tickets-11626734877\n\nPersonal Growth Alternatives\n2411 B Patane Ave\nAbington\, PA 19001
URL:https://www.expert-psychotherapist-philadelphia.com/event/juicy-july-cuddle-party-saturday-july-12-2pm
LOCATION:2411 C. Patane Avenue\, Abington\, 19001\, United States
ORGANIZER;CN="Rusty%20Stewart":MAILTO:rusty@personalgrowthalternatives.com
END:VEVENT
END:VCALENDAR