BEGIN:VCALENDAR
VERSION:2.0
PRODID:-// - ECPv4.2.6//NONSGML v1.0//EN
CALSCALE:GREGORIAN
METHOD:PUBLISH
X-WR-CALNAME:
X-ORIGINAL-URL:https://www.expert-psychotherapist-philadelphia.com
X-WR-CALDESC:Events for 
BEGIN:VEVENT
DTSTART;TZID=UTC+0:20170701T160000
DTEND;TZID=UTC+0:20170701T220000
DTSTAMP:20260423T173605
CREATED:20170616T140718
LAST-MODIFIED:20170616T140718
UID:755-1498924800-1498946400@www.expert-psychotherapist-philadelphia.com
SUMMARY:July 1st Pot Luck BBQ Open House Party and Drum Circle!
DESCRIPTION:Happy 4th of July Summer Weekend my Friends!\n\nLet's PARTY!!!\n\nI'm celebrating my release of 50 lbs. by June 30th! June 30th will mark day 85 sine I have had solid food. I've been consuming healthy jucing since early April and feel great!\n\nFor those of you not going away for the holiday weekend\, and looking for a social event\, I am hosting a Pot Luck BBQ Open House Party and Drum Circle on Saturday July 1st from 4pm-10pm! Everthing will be open for one big party for socializing\, drumming\, dance\, music\, sharing food\, and fun!!! The air conditioned studio will be open for relaxing\, quiet\, cuddling\, or healing on a soundtable with a magnetic healing pad. Later on as the sun starts to set we will light the fire pit and drum away! This is an open forum drum circle so no prior experience required. We drum together in improvisation resonating with oneness.\n\nPlease bring a healthy dish to share or something to throw on the grill. BYOB responsibly please Bring a lawnchair or 2 if you like.\n\nCome out\, celebrate\, see friends\, meet new friends\, even network if you like. My sacred studio will also be open for socializing\, Reiki\, cuddling\, etc. Bring your drums and percussion instruments for other people that may want to play. We have some extra drums and instruments for people that have none. For those of you that want to let go and jam\, this is it\, jam to the warm and humid weather of July! Please RSVP! Love donations are accepted and appreciated\, and\, everyone is welcome. You can also check out my events at http://www.facebook.com/events/.\n\nThis will be limited drum circles this season so don't miss this one!\n\nGratitude\, Light\, & Love\,\n\nRusty\n\nDr. Rusty’s Love Shack\n\n2411 C. Patane Avenue\n\nAbington\, PA 19001\n\n609.332.4663
URL:https://www.expert-psychotherapist-philadelphia.com/event/july-1st-pot-luck-bbq-open-house-party-and-drum-circle
LOCATION:2411 C. Patane Avenue\, Abington\, 19001\, United States
ORGANIZER;CN="Rusty%20Stewart":MAILTO:rusty@personalgrowthalternatives.com
END:VEVENT
END:VCALENDAR