BEGIN:VCALENDAR
VERSION:2.0
PRODID:-// - ECPv4.2.6//NONSGML v1.0//EN
CALSCALE:GREGORIAN
METHOD:PUBLISH
X-WR-CALNAME:
X-ORIGINAL-URL:https://www.expert-psychotherapist-philadelphia.com
X-WR-CALDESC:Events for 
BEGIN:VEVENT
DTSTART;TZID=UTC+0:20151026T200000
DTEND;TZID=UTC+0:20151026T210000
DTSTAMP:20260424T054153
CREATED:20150921T231804
LAST-MODIFIED:20151003T211202
UID:717-1445889600-1445893200@www.expert-psychotherapist-philadelphia.com
SUMMARY:Love Shack's LIVE 90 Day Relationship Attraction Boot Camp
DESCRIPTION:\n\n\nStarting October 26\, 2015: Discover How to Create Unconventional\, Authentic\, Fulfilling\, Trusting Relationships with Ravishing Sex through Unbridled Self Expression\n\nCLICK HERE TO PURCHASE\n\nThis LIVE 90 Day Relationship Attraction Boot Camp is for you if:\n\n1) You're committed to taking different action in attracting your most fulfilling dream relationship(s)\n\n2) You want to follow a simple step by step proven plan\n\n3) You want to transform your negative relationship patterns and programming into healthy ones\n\n4) You want to be heard\, validated\, respected\, and acknowledged by your new Love\n\n5) You want to know where to look for Love\n\n6) You want to boost your self Love\, self confidence\, and self esteem\n\n7) You want to trust again in relationship\n\n8) You want to be authentic and fully self expressed in relationship\n\n9) You want to put past relationship hurts behind you\n\n10) You want to share mind blowing sacred sex with each other\n\n11) You want deep lasting committed Love\n\n12) You want to shift your limiting beliefs and mindset around having it all in relationship...\n\n\n\n\n\n\n\nThen jump in on this INSANE offer!\n\nCLICK HERE TO PURCHASE\n\n\n\n\nJust look what's included:\n\n\n\n\t3 one hour group coaching calls per month for 90 days (all calls are recorded in case you miss a call)\n\tQ & A sessions at the end of each group coaching call\n\tWorksheets to download and follow along\n\tPrivate Facebook Group for group support\, feedback\, and asking questions\n\tDownloadable MP3 Recordings of all 6 of my Holistic Integrative Breathing CDS for you to practice and program self Love as the key to attracting who and what you want in your life!\n\t"Transforming Relationships” e-book by Dr. Rusty Stewart. You will learn many of my secrets to Loving\, steamy\, healthy\, edgy\, fulfilling\, authentic relationships!\n\tGroup Coaching Call Dates\, MONDAYS 8-9pm EST: Oct. 26 (still EDT)\, Nov. 2\, 9\, 16\, Dec. 7\, 14\, 21\, 2015\, Jan. 4\, 11\, 2016\n\n\n\n\n\n\n\n\n\n\n\n\nP.S. Act now before the you miss out! All this for the MIND BLOWING price of $97! When the boot camp begins in October the price goes back up to $1\,297! That's 93% off! I must be CRAZY! You snooze you lose!\n\n\n\n\n\n\n\nHURRY - NOW ONLY $97!\n\n\n\n\n \n\nCLICK HERE TO PURCHASE! \n\n\n
URL:https://www.expert-psychotherapist-philadelphia.com/event/love-shacks-live-90-relationship-attraction-boot-camp
ORGANIZER;CN="Rusty%20Stewart":MAILTO:rusty@personalgrowthalternatives.com
END:VEVENT
END:VCALENDAR