BEGIN:VCALENDAR
VERSION:2.0
PRODID:-// - ECPv4.2.6//NONSGML v1.0//EN
CALSCALE:GREGORIAN
METHOD:PUBLISH
X-WR-CALNAME:
X-ORIGINAL-URL:https://www.expert-psychotherapist-philadelphia.com
X-WR-CALDESC:Events for 
BEGIN:VEVENT
DTSTART;TZID=UTC+0:20140322T140000
DTEND;TZID=UTC+0:20140322T173000
DTSTAMP:20260424T225654
CREATED:20140218T211829
LAST-MODIFIED:20140218T211829
UID:614-1395496800-1395509400@www.expert-psychotherapist-philadelphia.com
SUMMARY:Magical March Cuddle Party Saturday\, March 22 at 2:00pm-5:30pm
DESCRIPTION:Join a group of cozy cuddler's as you learn portable relationship skills\, communication\, boundary setting. Make new friends\, create community\, have fun! My friend Rusty Stewart is hosting. http://www.cuddleparty.com/\n\nIt is $30 per person and $25 if you bring a friend\n\nhttp://www.eventbrite.com/e/magic-march-cuddle-party-tickets-10569141587?aff=rss
URL:https://www.expert-psychotherapist-philadelphia.com/event/magical-march-cuddle-party-saturday-march-22-at-200pm-530pm
LOCATION:2411 C. Patane Avenue\, Abington\, PA 19001\, 19001\, United States
ORGANIZER;CN="Rusty%20Stewart%2C%20Ph.D.":MAILTO:rusty@rustystewartphd.com
END:VEVENT
END:VCALENDAR