BEGIN:VCALENDAR
VERSION:2.0
PRODID:-// - ECPv4.2.6//NONSGML v1.0//EN
CALSCALE:GREGORIAN
METHOD:PUBLISH
X-WR-CALNAME:
X-ORIGINAL-URL:https://www.expert-psychotherapist-philadelphia.com
X-WR-CALDESC:Events for 
BEGIN:VEVENT
DTSTART;TZID=UTC+0:20120320T130000
DTEND;TZID=UTC+0:20120320T160059
DTSTAMP:20260425T144932
CREATED:20120220T172159
LAST-MODIFIED:20120220T172159
UID:349-1332248400-1332259259@www.expert-psychotherapist-philadelphia.com
SUMMARY:March 2012 Abington REIKI Share
DESCRIPTION:Hey Everyone\, Come experience the energy of Reiki for the first time\, or share the universal energy with other Reiki practitioners.  This is a great place to practice your Reiki skills. Bring a table if you have one. The first part is a Reiki Share from 1-3pm. The last part is a Shamanic Reiki Group Healing from 3-4pm. Please RSVP 609-332-4663. Love donations are accepted and everyone is welcome. Tuesday March 20th 1-4pm.\n\nYou can also view our events in Facebook at http://www.facebook.com/events/ and http://www.facebook.com/PersonalGrowthAlternatives  and Meetup.com at http://www.meetup.com/The-Shiva-Das-Drum-Circle-and-Reiki-Share-Meetup-Group/\n\nGratitude\, Rusty Stewart\, Ph.D.\, Usui Reiki Master
URL:https://www.expert-psychotherapist-philadelphia.com/event/march-2012-abington-reiki-share
LOCATION:2411 C. Patane Avenue\, Abington\, PA\, 19001\, United States
ORGANIZER;CN="Rusty%20Stewart%2C%20Ph.D.":MAILTO:rusty@rustystewartphd.com
END:VEVENT
END:VCALENDAR