BEGIN:VCALENDAR
VERSION:2.0
PRODID:-// - ECPv4.2.6//NONSGML v1.0//EN
CALSCALE:GREGORIAN
METHOD:PUBLISH
X-WR-CALNAME:
X-ORIGINAL-URL:https://www.expert-psychotherapist-philadelphia.com
X-WR-CALDESC:Events for 
BEGIN:VEVENT
DTSTART;TZID=UTC+0:20140627T193000
DTEND;TZID=UTC+0:20140627T223000
DTSTAMP:20260425T033809
CREATED:20140410T164815
LAST-MODIFIED:20140606T192201
UID:637-1403897400-1403908200@www.expert-psychotherapist-philadelphia.com
SUMMARY:June 27th Beginning of Summer Celebration Party & Fire Pit Drum Circle
DESCRIPTION:Happy Summer!!!\n\nCome drum\, dance\, and socialize Friday June 27th\, 7:30-10:30 pm or later! We will be drumming\, dancing\, and socializing inside or around the fire pit\, weather permitting. My sacred studio will also be open for socializing. Bring a dish to share. BYOB responsibly please! Bring your drums and percussion instruments for other people that may want to play. We have some extra drums and instruments for people that have none. For those of you that want to let go and jam\, this is it\, jam in the warm weather! Please RSVP! Love donations are accepted and appreciated\, and\, everyone is welcome. No prior experience with drumming required. You can also check out my events at http://www.facebook.com/events/322420544459728/#!/events/ and my events on http://www.meetup.com/The-Shiva-Das-Drum-Circle-and-Reiki-Share-Meetup-Group/events/187585062/.\n\nGratitude\,\n\nRusty Stewart
URL:https://www.expert-psychotherapist-philadelphia.com/event/may-30th-unofficial-beginning-of-summer-celebration-party-fire-pit-drum-circle
LOCATION:2411 C. Patane Avenue\, Abington\, 19001\, United States
ORGANIZER;CN="Rusty%20Stewart%2C%20Ph.D.":MAILTO:rusty@rustystewartphd.com
END:VEVENT
END:VCALENDAR