BEGIN:VCALENDAR
VERSION:2.0
PRODID:-// - ECPv4.2.6//NONSGML v1.0//EN
CALSCALE:GREGORIAN
METHOD:PUBLISH
X-WR-CALNAME:
X-ORIGINAL-URL:https://www.expert-psychotherapist-philadelphia.com
X-WR-CALDESC:Events for 
BEGIN:VEVENT
DTSTART;TZID=UTC+0:20121130T190000
DTEND;TZID=UTC+0:20121130T213059
DTSTAMP:20260425T113950
CREATED:20120902T182258
LAST-MODIFIED:20120902T182258
UID:388-1354302000-1354311059@www.expert-psychotherapist-philadelphia.com
SUMMARY:November 2012 Abington Drum Circle\, Open House\, and Pot Luck Party
DESCRIPTION:We have decided to keep the monthly drum circles on the last Friday of every month 7-9:30pm. This month the drum circle will be held inside the studio with a pot luck party & bbq with a Thanksgiving theme. Come drum\, dance\, eat\, and socialize Friday November 30th\, 7:00-9:30 pm or later?! Bring your drums and percussion instruments for other people that may want to play. We have some extra drums and instruments for people that have none. For those of you that want to let go and jam\, this is it! Please RSVP! Love donations are accepted and everyone is welcome. You can also check out my events at http://www.facebook.com/events/322420544459728/#!/events/ and my events on meetup.com at http://www.meetup.com/The-Shiva-Das-Drum-Circle-and-Reiki-Share-Meetup-Group/\n\nGratitude\, Rusty (Shiva Das)\n\n
URL:https://www.expert-psychotherapist-philadelphia.com/event/november-2012-abington-drum-circle-open-house-and-pot-luck-party
LOCATION:2411 C. Patane Avenue\, Abington\, PA\, 19001\, United States
ORGANIZER;CN="Rusty%20Stewart%2C%20Ph.D.":MAILTO:rusty@personalgrowthalternatives.com
END:VEVENT
END:VCALENDAR