BEGIN:VCALENDAR
VERSION:2.0
PRODID:-// - ECPv4.2.6//NONSGML v1.0//EN
CALSCALE:GREGORIAN
METHOD:PUBLISH
X-WR-CALNAME:
X-ORIGINAL-URL:https://www.expert-psychotherapist-philadelphia.com
X-WR-CALDESC:Events for 
BEGIN:VEVENT
DTSTART;TZID=UTC+0:20141121T193000
DTEND;TZID=UTC+0:20141121T223000
DTSTAMP:20260424T194931
CREATED:20141103T020639
LAST-MODIFIED:20141103T020639
UID:662-1416598200-1416609000@www.expert-psychotherapist-philadelphia.com
SUMMARY:November 21st Thanksgiving & Gratitude Drum Circle
DESCRIPTION:\n\nHappy Thanksgiving!!!\n\nCome drum\, dance\, and socialize Friday November 21st\, 7:30-10:30 pm or later! This will be the last drum circle of 2014! We will be drumming and dancing in my sacred studio. We are going back to this being a sober event. Some people have requested that and I am honoring their request. Bring a pot luck dish to share. Bring your drums and percussion instruments for other people that may want to play. We have some extra drums and instruments for people that have none. For those of you that want to let go and jam\, this is it! Please RSVP! Love donations are accepted and appreciated\, and\, everyone is welcome. No prior experience with drumming required. You can also check out my events at\n\nhttps://www.facebook.com/events/upcoming\n\nand http://www.meetup.com/The-Shiva-Das-Drum-Circle-and-Reiki-Share-Meetup-Group/\n\n2411 C. Patane Avenue\nAbington\, PA 19001\n609.332.4663\n\nGratitude\,\n\nRusty Stewart
URL:https://www.expert-psychotherapist-philadelphia.com/event/november-21st-thanksgiving-gratitude-drum-circle
LOCATION:2411 C. Patane Avenue\, Abington\, PA\, 19001\, United States
ORGANIZER;CN="Rusty%20Stewart":MAILTO:rusty@personalgrowthalternatives.com
END:VEVENT
END:VCALENDAR