BEGIN:VCALENDAR
VERSION:2.0
PRODID:-// - ECPv4.2.6//NONSGML v1.0//EN
CALSCALE:GREGORIAN
METHOD:PUBLISH
X-WR-CALNAME:
X-ORIGINAL-URL:https://www.expert-psychotherapist-philadelphia.com
X-WR-CALDESC:Events for 
BEGIN:VEVENT
DTSTART;TZID=UTC+0:20131025T190000
DTEND;TZID=UTC+0:20131025T230000
DTSTAMP:20260425T004336
CREATED:20130929T223430
LAST-MODIFIED:20130929T224112
UID:507-1382727600-1382742000@www.expert-psychotherapist-philadelphia.com
SUMMARY:October 25th Hallowean Costume Pot Luck Party\, & Drumming In My Studio
DESCRIPTION:Happy Halloween! \n\nCome drum\, dance\, eat\, and socialize Friday October 25th\, 7:00-11:00 pm or later! We will be in costumes for Hallowean! And we will be drumming\, dancing\, and socializing in my studio. Bring a dish to share or something to throw on the grill. BYOB responsibly please! Bring your drums and percussion instruments for other people that may want to play. We have some extra drums and instruments for people that have none. For those of you that want to let go and jam\, this is it\, jam to Hallowean! Please RSVP! Love donations are accepted and appreciated\, and\, everyone is welcome. No prior experience with drumming required. You can also check out my events at http://www.facebook.com/events/322420544459728/#!/events/ and my events on http://www.meetup.com/The-Shiva-Das-Drum-Circle-and-Reiki-Share-Meetup-Group/.\n\nGratitude\, Rusty Stewart\n\nOnce again\, I want to welcome Rod Schichtel who is partnering with me in my studio. Rod is a Loving human being who has many talents to share. He will be at this event to share his artwork and healing talents. And he has some other goodies to share with you! Here are some of the events/services he is creating: Experience an Affirmation Empowerment (“Create Your Life Positively”) session\, designed to help you fulfill your highest potentials. For now\, I am offering my “Create Your Life Positively” sessions on a “pay what you think it was worth to you” basis. It brings me great joy to assist people in creating lives of conscious well-being and satisfaction. Schedule a few hours with me. Experience this program. You can see more about it on my website HeavenHereNow.com\n\nI am OVERJOYED to announce that I partnering with Rusty Stewart and I will be hosting these “Silence as a Spiritual Practice” meetings at his studio in Abington\, PA. The space is wonderful for meetings\, drumming circles\, potluck dinners\, and the one-on-one sessions I am offering. Join us for a dress up Halloween Potluck Party on Friday the 25th of October! Drumming\, Food\, Awesome People! See You There!\n\nI will also have a selection of my artwork on the walls in Rusty’s studio from now on.\n\nAllow me to be of Support! Allow me to be of Service! \nLet’s Support EACH OTHER!\n\nGratitude\, Rusty & Rod
URL:https://www.expert-psychotherapist-philadelphia.com/event/october-25th-hallowean-costume-pot-luck-party-drumming-in-my-studio
LOCATION:2411 C. Patane Avenue\, Abington\, PA\, 19001\, United States
ORGANIZER;CN="Rusty%20Stewart":MAILTO:rusty@personalgrowthalternatives.com
END:VEVENT
END:VCALENDAR