BEGIN:VCALENDAR
VERSION:2.0
PRODID:-// - ECPv4.2.6//NONSGML v1.0//EN
CALSCALE:GREGORIAN
METHOD:PUBLISH
X-WR-CALNAME:
X-ORIGINAL-URL:https://www.expert-psychotherapist-philadelphia.com
X-WR-CALDESC:Events for 
BEGIN:VEVENT
DTSTART;TZID=UTC+0:20160826T100000
DTEND;TZID=UTC+0:20160829T170000
DTSTAMP:20260423T191830
CREATED:20160713T215938
LAST-MODIFIED:20160713T221236
UID:733-1472205600-1472490000@www.expert-psychotherapist-philadelphia.com
SUMMARY:Reiki Level III Masters Certification with Rusty Stewart\, Usui Reiki Master
DESCRIPTION:Hi Friends!\n\nThis is a powerful and advanced training with many energetic healing techniques integrated with Reiki and deeper personal healing work for the self. Includes 4 days of energy healing\, attunements\, symbols\, other integrated energy healing techniques\, and practical hands on teaching application with each other. Learn how to attune students\, teach Reiki\, foster empowerment\, light up the core star\, loving the self\, the Hui Yin\, the level of intention and the Hara\, how to integrate medicinal grade organic and/or wildcrafted essential oils\, and the Orion Healing Technique with Reiki. Fri.\, Sat.\, Sun.\, & Mon.\, August 26-29\, 2016: 10am-5:00pm $500 full registration. A $100 non-refundable deposit holds your spot. If something comes up and you cannot make the certification you can apply the deposit to another one of my events at my studio. If you have any questions or to register\, call Rusty’s cell at 609.332.4463.\n\nYou can register via PayPal below.\n\nYou can also check out my events at http://www.facebook.com/events and http://www.meetup.com/The-Shiva-Das-Drum-Circle-and-Reiki-Share-Meetup-Group/\n\nGratitude\, Rusty Stewart\, Ph.D.\, Usui Reiki Master\n\n\n\n\n\n\nUsui Reiki III Masters Certification\n\n\n\nPay Deposit $100.00 USD\nPay Balance $400.00 USD\nPay in Full $500.00 USD\n\n\n\n\n\n\n\n\n
URL:https://www.expert-psychotherapist-philadelphia.com/event/reiki-level-iii-masters-certification-with-rusty-stewart-usui-reiki-master-2
LOCATION:2411 C. Patane Avenue\, Abington\, 19001\, United States
ORGANIZER;CN="Rusty%20Stewart%2C%20Ph.D.":MAILTO:rusty@rustystewartphd.com
END:VEVENT
END:VCALENDAR