BEGIN:VCALENDAR
VERSION:2.0
PRODID:-// - ECPv4.2.6//NONSGML v1.0//EN
CALSCALE:GREGORIAN
METHOD:PUBLISH
X-WR-CALNAME:
X-ORIGINAL-URL:https://www.expert-psychotherapist-philadelphia.com
X-WR-CALDESC:Events for 
BEGIN:VEVENT
DTSTART;TZID=UTC+0:20140419T120000
DTEND;TZID=UTC+0:20140419T170000
DTSTAMP:20260425T003737
CREATED:20140228T162205
LAST-MODIFIED:20140325T175609
UID:624-1397908800-1397926800@www.expert-psychotherapist-philadelphia.com
SUMMARY:Sacred Sexuality/Tantra Workshop
DESCRIPTION:\n\n\nWhat:     Tantra Workshop for Couples\nDate:      Saturday\, April 19th\nTime:     noon – 5\nPlace:     9581 James St. Unit B Philadelphia PA 19114\nFee:        $75/ per couple\nhttp://www.eventbrite.com/e/tantra-workshop-for-couples-tickets-10862894209?aff=rss\nContact:  Maya\n               267-934-4849267-934-4849\n               TantricBeginnings.com\n\nElaine Miles aka Tantrica Maya is a Tantra Practitioner & Holistic Sexuality Counselor. She has studied at various tantric and erotic workshops at The Sedona Temple\, Butterfly workshops\, Conferences\, and The New School of Erotic Touch.  She is well-established as a reliable professional in Philadelphia & surrounding suburbs. She has a master's degree in Training & Organizational Development.  Prior to her professions in Sacred Sexuality she has been a teacher\, medical information analyst\, and professional belly-dancer.  Her mission is to educate individuals on ancient truths about the sacredness of human connections & intimacy. www.TantricBeginnings.com.\n\nThis workshop will emphasize:\n  \n\n\n\tThe Basic Concepts of Tantra\n\tThe Preparation for Sacred Encounters\n\tTantric Rituals\n\n\nCall\nSend SMS\nAdd to Skype\nYou'll need Skype CreditFree via Skype\n
URL:https://www.expert-psychotherapist-philadelphia.com/event/sacred-sexualitytantra-workshop
LOCATION:Grant  Avenue & State Road\, Philadelphia\, PA\, 19114\, United States
ORGANIZER;CN="Rusty%20Stewart%2C%20Ph.D.":MAILTO:rusty@rustystewartphd.com
END:VEVENT
END:VCALENDAR