BEGIN:VCALENDAR
VERSION:2.0
PRODID:-// - ECPv4.2.6//NONSGML v1.0//EN
CALSCALE:GREGORIAN
METHOD:PUBLISH
X-WR-CALNAME:
X-ORIGINAL-URL:https://www.expert-psychotherapist-philadelphia.com
X-WR-CALDESC:Events for 
BEGIN:VEVENT
DTSTART;TZID=UTC+0:20150815T160000
DTEND;TZID=UTC+0:20150815T220000
DTSTAMP:20260424T103607
CREATED:20150730T205534
LAST-MODIFIED:20150730T205534
UID:686-1439654400-1439676000@www.expert-psychotherapist-philadelphia.com
SUMMARY:Saturday August 15th Summer Pot Luck BBQ Party & Fire Pit Drum Circle!
DESCRIPTION:Happy Hazy Lazy Days of Summer!!!\n\nThis is a pot luck BBQ Summer Party so bring a dish to share and/or throw on the grill! This WILL NOT be a sober event. BYOB for this Summer Party! Bring extra lawn chairs as this is a bigger event than usual!\n\nDrumming and the fire pit will be rocking and the grill will be a sizzling so bring your drums and percussion instruments for other people that may want to play. We have some extra drums and instruments for people that have none. For those of you that want to let go and jam\, this is it\, jam in the warm weather! Please RSVP! Love donations are accepted and appreciated\, and\, everyone is welcome. No prior experience with drumming required. You can also check out my events at http://www.meetup.com/The-Shiva-Das-Drum-Circle-and-Reiki-Share-Meetup-Group/ and my events on my website at http://www.expert-psychotherapist-philadelphia.com/events/.\n\nGratitude\,\n\nDr. Rusty's Love Shack\n2411 C. Patane Avenue\nAbington\, PA 19001\n609.332.4663
URL:https://www.expert-psychotherapist-philadelphia.com/event/saturday-august-15th-summer-pot-luck-bbq-party-fire-pit-drum-circle
LOCATION:2411 C. Patane Avenue\, Abington\, PA\, 19001\, United States
ORGANIZER;CN="Rusty%20Stewart":MAILTO:rusty@personalgrowthalternatives.com
END:VEVENT
END:VCALENDAR