BEGIN:VCALENDAR
VERSION:2.0
PRODID:-// - ECPv4.2.6//NONSGML v1.0//EN
CALSCALE:GREGORIAN
METHOD:PUBLISH
X-WR-CALNAME:
X-ORIGINAL-URL:https://www.expert-psychotherapist-philadelphia.com
X-WR-CALDESC:Events for 
BEGIN:VEVENT
DTSTART;TZID=UTC+0:20141024T193000
DTEND;TZID=UTC+0:20141024T223000
DTSTAMP:20260424T212944
CREATED:20140913T184644
LAST-MODIFIED:20140930T212037
UID:658-1414179000-1414189800@www.expert-psychotherapist-philadelphia.com
SUMMARY:October 24th Halloween Celebration Party & Fire Pit Drum Circle
DESCRIPTION:Happy Halloween!!!\n\nCome drum\, dance\, and socialize Friday October 24th\, 7:30-10:30 pm or later! We will be drumming and dancing around the fire pit\, weather permitting. My sacred studio will also be open for socializing. We are going back to this being a sober event. Some people have requested that and I am honoring their request. Bring a pot luck dish to share. Bring your drums and percussion instruments for other people that may want to play. We have some extra drums and instruments for people that have none. For those of you that want to let go and jam\, this is it\, jam in the crisp Fall weather! Please RSVP! Love donations are accepted and appreciated\, and\, everyone is welcome. No prior experience with drumming required. You can also check out my events at http://www.meetup.com/The-Shiva-Das-Drum-Circle-and-Reiki-Share-Meetup-Group/ and my events on https://www.facebook.com/events/upcoming.\n\n2411 C. Patane Avenue\nAbington\, PA 19001\n609.332.4663\n\nGratitude\,\n\nRusty Stewart
URL:https://www.expert-psychotherapist-philadelphia.com/event/september-26th-autumn-celebration-party-fire-pit-drum-circle
LOCATION:2411 C. Patane Avenue\, Abington\, 19001\, United States
ORGANIZER;CN="Rusty%20Stewart":MAILTO:rusty@personalgrowthalternatives.com
END:VEVENT
END:VCALENDAR