BEGIN:VCALENDAR
VERSION:2.0
PRODID:-// - ECPv4.2.6//NONSGML v1.0//EN
CALSCALE:GREGORIAN
METHOD:PUBLISH
X-WR-CALNAME:
X-ORIGINAL-URL:https://www.expert-psychotherapist-philadelphia.com
X-WR-CALDESC:Events for 
BEGIN:VEVENT
DTSTART;TZID=UTC+0:20141107T090000
DTEND;TZID=UTC+0:20141109T170000
DTSTAMP:20260424T212555
CREATED:20131109T233730
LAST-MODIFIED:20141005T163811
UID:591-1415350800-1415552400@www.expert-psychotherapist-philadelphia.com
SUMMARY:Usui Reiki I Certification With Rusty Stewart\, Ph.D.\, Reiki Master
DESCRIPTION:Friday\, Saturday\, & Sunday\, November 7\, 8\, 9\, 2014\, 9am-5pm. $300 full registration. A $100 non-refundable deposit holds your spot. If you have any questions or to register\, call Rusty’s cell at 609.332.4663. Held at Personal Growth Alternatives\, LLC\, 2411 C. Patane Avenue\, Abington\, PA 19001\, 609.332.4663. Receive training and certification in the traditional Usui method and become a facilitator of healing. Includes three hours each day of hands-on application of giving and receiving healing energy. This certification includes powerful meditations each morning\, a guided imagery of meeting your reiki guides\, the history of reiki\, hand and kanji positions\, three hours of practical application on each other\, personal use of medicinal grade organic and/or wildcrafted essential oils on the chakras\, pendulum introduction\, scanning and beaming\, grounding\, protecting and centering techniques\, pranic healing and cleansing\, attunements\, and a detailed binder to refer to for future use.\n\nYou can register below.\n\nYou can also check out my events at http://www.meetup.com/The-Shiva-Das-Drum-Circle-and-Reiki-Share-Meetup-Group/ and my events on Facebook at https://www.facebook.com/events/456250984452932/?ref_dashboard_filter=calendar.\n\nGratitude\, Rusty Stewart\, Ph.D.\, Usui Reiki Master\n\n \n\nReiki I Deposit\n\n\n\n\nReiki I Pay in Full\n\n\n\n\n
URL:https://www.expert-psychotherapist-philadelphia.com/event/usui-reiki-i-certification-with-rusty-stewart-ph-d-reiki-master-2
LOCATION:2411 C. Patane Avenue\, Abington\, PA\, 19001\, United States
ORGANIZER;CN="Rusty%20Stewart":MAILTO:rusty@rustystewartphd.com
END:VEVENT
END:VCALENDAR